BEGIN:VCALENDAR
VERSION:2.0
PRODID:-//BrokerNation Real Estate - ECPv6.0.0//NONSGML v1.0//EN
CALSCALE:GREGORIAN
METHOD:PUBLISH
X-ORIGINAL-URL:https://www.brokernation.net
X-WR-CALDESC:Events for BrokerNation Real Estate
REFRESH-INTERVAL;VALUE=DURATION:PT1H
X-Robots-Tag:noindex
X-PUBLISHED-TTL:PT1H
BEGIN:VTIMEZONE
TZID:America/New_York
BEGIN:DAYLIGHT
TZOFFSETFROM:-0500
TZOFFSETTO:-0400
TZNAME:EDT
DTSTART:20220313T070000
END:DAYLIGHT
BEGIN:STANDARD
TZOFFSETFROM:-0400
TZOFFSETTO:-0500
TZNAME:EST
DTSTART:20221106T060000
END:STANDARD
END:VTIMEZONE
BEGIN:VEVENT
DTSTART;TZID=America/New_York:20220720T103000
DTEND;TZID=America/New_York:20220720T113000
DTSTAMP:20260422T204857
CREATED:20220712T174447Z
LAST-MODIFIED:20220720T150215Z
UID:5907-1658313000-1658316600@www.brokernation.net
SUMMARY:July Agents Monthly Meeting
DESCRIPTION:Please join us at our BrokerNation office for our monthly meeting. We will discuss the Housing Market Forecast for the Second Half of 2022. \nWe encourage all our agents to attend. We will also celebrate our top transaction & residual earners. \nLite refreshments will be served. \nPLEASE RSVP BELOW TO ATTEND \nJOIN ZOOMIf you are unable to attend in person\, please see the info below for our ZOOM. \nJoin Zoom Meeting\nhttps://us02web.zoom.us/j/87448493721 \nMeeting ID: 874 4849 3721\nOne tap mobile\n+19294362866\,\,87448493721# US (New York) \nDial by your location\n+1 646 931 3860 US\n+1 564 217 2000 US\n+1 386 347 5053 US\nMeeting ID: 874 4849 3721
URL:https://www.brokernation.net/event/july-agents-monthly-meeting/
LOCATION:BrokerNation North Miami\, 1802 NE 123rd ST\, North Miami\, FL\, 33181\, United States
CATEGORIES:Meetings
END:VEVENT
END:VCALENDAR