BEGIN:VCALENDAR
VERSION:2.0
PRODID:-//BrokerNation Real Estate - ECPv6.0.0//NONSGML v1.0//EN
CALSCALE:GREGORIAN
METHOD:PUBLISH
X-ORIGINAL-URL:https://www.brokernation.net
X-WR-CALDESC:Events for BrokerNation Real Estate
REFRESH-INTERVAL;VALUE=DURATION:PT1H
X-Robots-Tag:noindex
X-PUBLISHED-TTL:PT1H
BEGIN:VTIMEZONE
TZID:America/New_York
BEGIN:DAYLIGHT
TZOFFSETFROM:-0500
TZOFFSETTO:-0400
TZNAME:EDT
DTSTART:20220313T070000
END:DAYLIGHT
BEGIN:STANDARD
TZOFFSETFROM:-0400
TZOFFSETTO:-0500
TZNAME:EST
DTSTART:20221106T060000
END:STANDARD
END:VTIMEZONE
BEGIN:VEVENT
DTSTART;TZID=America/New_York:20220928T103000
DTEND;TZID=America/New_York:20220928T120000
DTSTAMP:20260422T184353
CREATED:20220912T005245Z
LAST-MODIFIED:20220926T151343Z
UID:6157-1664361000-1664366400@www.brokernation.net
SUMMARY:Agent Monthly Meeting September 2022
DESCRIPTION:CALLING ALL AGENTS\, RSVP TO ATTEND OUR MONTHLY MEETING! \nWednesday\, September 28th at Our BrokerNation North Miami Office.\n1801 NE 123rd St Suite 309\, North Miami\, FL 33181 \nJOIN VIA ZOOM MEETING\nhttps://us02web.zoom.us/j/86366127419 \nMeeting ID: 863 6612 7419\nOne tap mobile\n+13092053325\,\,86366127419# US
URL:https://www.brokernation.net/event/agent-monthly-meeting-septmeber-2022/
LOCATION:BrokerNation North Miami\, 1802 NE 123rd ST\, North Miami\, FL\, 33181\, United States
CATEGORIES:Meetings
ATTACH;FMTTYPE=image/jpeg:https://www.brokernation.net/wp-content/uploads/2022/08/HDR_EmailMonthlyMeeting_1080x720px.jpeg
END:VEVENT
END:VCALENDAR