BEGIN:VCALENDAR
VERSION:2.0
PRODID:-//BrokerNation Real Estate - ECPv6.0.0//NONSGML v1.0//EN
CALSCALE:GREGORIAN
METHOD:PUBLISH
X-WR-CALNAME:BrokerNation Real Estate
X-ORIGINAL-URL:https://www.brokernation.net
X-WR-CALDESC:Events for BrokerNation Real Estate
REFRESH-INTERVAL;VALUE=DURATION:PT1H
X-Robots-Tag:noindex
X-PUBLISHED-TTL:PT1H
BEGIN:VTIMEZONE
TZID:America/New_York
BEGIN:DAYLIGHT
TZOFFSETFROM:-0500
TZOFFSETTO:-0400
TZNAME:EDT
DTSTART:20220313T070000
END:DAYLIGHT
BEGIN:STANDARD
TZOFFSETFROM:-0400
TZOFFSETTO:-0500
TZNAME:EST
DTSTART:20221106T060000
END:STANDARD
END:VTIMEZONE
BEGIN:VEVENT
DTSTART;TZID=America/New_York:20220607T163000
DTEND;TZID=America/New_York:20220607T170000
DTSTAMP:20260425T201407
CREATED:20220606T182609Z
LAST-MODIFIED:20220606T182609Z
UID:5796-1654619400-1654621200@www.brokernation.net
SUMMARY:The Miami Home Show\, What To Expect from The Housing Market In The Second Half of 2022
DESCRIPTION:HOSTED BY\nDaylan Rubido:\nBroker Partner\nBrokerNation Real Estate\n305.508.9893\nDaylan@brokernation.net \nWhat To Expect From The Housing Market In The Second Half of 2022\, The Miami Home Show\, Episode 16\nIf you’re thinking of buying or selling a house\, you’re at an exciting decision point. Anytime you make a big decision like that\, one thing you should always consider is timing. Therefore\, join us on The Miami Home Show this Tuesday at 4:30 pm as we will answer two very important questions:\n\n\nWhat does the rest of 2022 hold for the housing market?\nAre there more homes coming to the market?\n\n\n\nThis topic is ideal for Real Estate Agents looking to grow and/or expand their business.
URL:https://www.brokernation.net/event/the-miami-home-show-what-to-expect-from-the-housing-market-in-the-second-half-of-2022/
CATEGORIES:The Miami Home Show
END:VEVENT
END:VCALENDAR